BEGIN:VCALENDAR
VERSION:2.0
PRODID:SchoolNow
CALSCALE:GREGORIAN
BEGIN:VEVENT
UID:d8a0c436-7d08-11f0-9f3f-02eb822844bf
DTSTAMP:20250819T152805Z
SUMMARY:CDD Board Meeting - Oct. 2024 - Cancelled
LOCATION:The office of the District Manager\, Rizzetta & Company\, Inc.\, l
 ocated at 9530 Marketplace Road\, Suite 206\, Fort Myers\, Florida 33912
URL;VALUE=URI:https://www.cfmcdd.org/calendar/8521468/cdd-board-meeting-oct
 -2024
DTSTART:20241017T153000Z
DTEND:20241017T163000Z
END:VEVENT
END:VCALENDAR
