BEGIN:VCALENDAR
VERSION:2.0
PRODID:SchoolNow
CALSCALE:GREGORIAN
BEGIN:VEVENT
UID:f6f33e1e-7d08-11f0-850a-02eb822844bf
DTSTAMP:20250819T143057Z
SUMMARY:CDD Board Meeting - Nov. 2024
LOCATION:The office of the District Manager\, Rizzetta & Company\, Inc.\, l
 ocated at 9530 Marketplace Road\, Suite 206\, Fort Myers\, Florida 33912
URL;VALUE=URI:https://www.cfmcdd.org/calendar/8521470/cdd-board-meeting-nov
 -2024
DTSTART:20241121T163000Z
DTEND:20241121T173000Z
ATTACH;FILENAME=2024-11-21 - CFM CDD - Agenda.pdf;FMTTYPE=application/pdf:h
 ttps://campussuite-storage.s3.amazonaws.com/prod/1559276/a9ed48da-7c54-11f
 0-bf98-0affee066179/2994932/d4b23998-7d05-11f0-ac81-0affe844e53d/file/2024
 -11-21 - CFM CDD - Agenda.pdf
END:VEVENT
END:VCALENDAR
