BEGIN:VCALENDAR
VERSION:2.0
PRODID:SchoolNow
CALSCALE:GREGORIAN
BEGIN:VEVENT
UID:161594b8-7d09-11f0-a321-0a58a9feac02
DTSTAMP:20250819T152824Z
SUMMARY:CDD Board Meeting - Dec. 2024 - Cancelled
LOCATION:The office of the District Manager\, Rizzetta & Company\, Inc.\, l
 ocated at 9530 Marketplace Road\, Suite 206\, Fort Myers\, Florida 33912
URL;VALUE=URI:https://www.cfmcdd.org/calendar/8521473/cdd-board-meeting-dec
 -2024-cancelled
DTSTART:20241219T163000Z
DTEND:20241219T173000Z
END:VEVENT
END:VCALENDAR
