BEGIN:VCALENDAR
VERSION:2.0
PRODID:SchoolNow
CALSCALE:GREGORIAN
BEGIN:VEVENT
UID:4233004e-7d09-11f0-bfe8-0e5d3462789d
DTSTAMP:20250819T143237Z
SUMMARY:CDD Board Meeting - Jan. 2025
LOCATION:The office of the District Manager\, Rizzetta & Company\, Inc.\, l
 ocated at 9530 Marketplace Road\, Suite 206\, Fort Myers\, Florida 33912
URL;VALUE=URI:https://www.cfmcdd.org/calendar/8521476/cdd-board-meeting-jan
 -2025
DTSTART:20250116T163000Z
DTEND:20250116T173000Z
ATTACH;FILENAME=2025-01-16 - CFM CDD - Agenda.pdf;FMTTYPE=application/pdf:h
 ttps://campussuite-storage.s3.amazonaws.com/prod/1559276/a9ed48da-7c54-11f
 0-bf98-0affee066179/2994931/d4b238c6-7d05-11f0-88c2-0affe844e53d/file/2025
 -01-16 - CFM CDD - Agenda.pdf
END:VEVENT
END:VCALENDAR
