BEGIN:VCALENDAR
VERSION:2.0
PRODID:SchoolNow
CALSCALE:GREGORIAN
BEGIN:VEVENT
UID:bfe7eee6-7d09-11f0-bd14-029f65b6582b
DTSTAMP:20250819T143527Z
SUMMARY:CDD Board Meeting - Apr. 2025
LOCATION:The office of the District Manager\, Rizzetta & Company\, Inc.\, l
 ocated at 9530 Marketplace Road\, Suite 206\, Fort Myers\, Florida 33912
URL;VALUE=URI:https://www.cfmcdd.org/calendar/8521481/cdd-board-meeting-apr
 -2025
DTSTART:20250417T153000Z
DTEND:20250417T163000Z
ATTACH;FILENAME=2025-04-17 - CFM CDD - Agenda.pdf;FMTTYPE=application/pdf:h
 ttps://campussuite-storage.s3.amazonaws.com/prod/1559276/a9ed48da-7c54-11f
 0-bf98-0affee066179/2994927/d4b23542-7d05-11f0-9127-0affe844e53d/file/2025
 -04-17 - CFM CDD - Agenda.pdf
END:VEVENT
END:VCALENDAR
