BEGIN:VCALENDAR
VERSION:2.0
PRODID:SchoolNow
CALSCALE:GREGORIAN
BEGIN:VEVENT
UID:c9a213d4-7d0a-11f0-a57e-0afff983aa55
DTSTAMP:20250819T144253Z
SUMMARY:CDD Board Meeting - Aug. 2024
LOCATION:The office of the District Manager\, Rizzetta & Company\, Inc.\, l
 ocated at 9530 Marketplace Road\, Suite 206\, Fort Myers\, Florida 33912
URL;VALUE=URI:https://www.cfmcdd.org/calendar/8521489/cdd-board-meeting-aug
 -2024
DTSTART:20240815T153000Z
DTEND:20240815T163000Z
ATTACH;FILENAME=2024-08-15 - CFM CDD - Agenda.pdf;FMTTYPE=application/pdf:h
 ttps://campussuite-storage.s3.amazonaws.com/prod/1559276/a9ed48da-7c54-11f
 0-bf98-0affee066179/2994934/f6921934-7d05-11f0-813a-0a58a9feac02/file/2024
 -08-15 - CFM CDD - Agenda.pdf
END:VEVENT
END:VCALENDAR
