BEGIN:VCALENDAR
VERSION:2.0
PRODID:SchoolNow
CALSCALE:GREGORIAN
BEGIN:VEVENT
UID:e9e530d6-7d0a-11f0-ba16-0a58a9feac02
DTSTAMP:20250819T144347Z
SUMMARY:CDD Board Meeting - Sept. 2024
LOCATION:The office of the District Manager\, Rizzetta & Company\, Inc.\, l
 ocated at 9530 Marketplace Road\, Suite 206\, Fort Myers\, Florida 33912
URL;VALUE=URI:https://www.cfmcdd.org/calendar/8521490/cdd-board-meeting-sep
 t-2024
DTSTART:20240919T153000Z
DTEND:20240919T163000Z
ATTACH;FILENAME=2024-09-19 - CFM CDD - Agenda.pdf;FMTTYPE=application/pdf:h
 ttps://campussuite-storage.s3.amazonaws.com/prod/1559276/a9ed48da-7c54-11f
 0-bf98-0affee066179/2994933/f691ce02-7d05-11f0-baf7-0a58a9feac02/file/2024
 -09-19 - CFM CDD - Agenda.pdf
END:VEVENT
END:VCALENDAR
